BEGIN:VCALENDAR
VERSION:2.0
PRODID:-//Parroquia Nuestra Señora del Rosario - ECPv6.15.20//NONSGML v1.0//EN
CALSCALE:GREGORIAN
METHOD:PUBLISH
X-ORIGINAL-URL:https://parroquiadelrosario.es
X-WR-CALDESC:Eventos para Parroquia Nuestra Señora del Rosario
REFRESH-INTERVAL;VALUE=DURATION:PT1H
X-Robots-Tag:noindex
X-PUBLISHED-TTL:PT1H
BEGIN:VTIMEZONE
TZID:Europe/Paris
BEGIN:DAYLIGHT
TZOFFSETFROM:+0100
TZOFFSETTO:+0200
TZNAME:CEST
DTSTART:20240331T010000
END:DAYLIGHT
BEGIN:STANDARD
TZOFFSETFROM:+0200
TZOFFSETTO:+0100
TZNAME:CET
DTSTART:20241027T010000
END:STANDARD
BEGIN:DAYLIGHT
TZOFFSETFROM:+0100
TZOFFSETTO:+0200
TZNAME:CEST
DTSTART:20250330T010000
END:DAYLIGHT
BEGIN:STANDARD
TZOFFSETFROM:+0200
TZOFFSETTO:+0100
TZNAME:CET
DTSTART:20251026T010000
END:STANDARD
BEGIN:DAYLIGHT
TZOFFSETFROM:+0100
TZOFFSETTO:+0200
TZNAME:CEST
DTSTART:20260329T010000
END:DAYLIGHT
BEGIN:STANDARD
TZOFFSETFROM:+0200
TZOFFSETTO:+0100
TZNAME:CET
DTSTART:20261025T010000
END:STANDARD
END:VTIMEZONE
BEGIN:VEVENT
DTSTART;TZID=Europe/Paris:20251129T170000
DTEND;TZID=Europe/Paris:20251129T190000
DTSTAMP:20260423T044321
CREATED:20251122T112811Z
LAST-MODIFIED:20251122T112811Z
UID:4888-1764435600-1764442800@parroquiadelrosario.es
SUMMARY:Retiro de Adviento - "Nacidos para Amar"
DESCRIPTION:En la tarde del sábado 29 de noviembre la parroquia nos ofrecerá un espacio de retiro de 17:00 a 19:00\, como preparación al tiempo litúrgico de Adviento. Nos acompañará el sacerdote Manuel María Iglesias Labat\, párroco de la parroquia de San Bruno (Madrid). \nEl retiro lleva como título: “Nacidos para amar”. Como otros años\, el encuentro constará de dos momentos: la primera parte nos propondrá algunas claves para vivir el tiempo de Adviento y en la segunda parte contaremos con un tiempo de plegaria comunitaria y de momentos de silencio. \nMerece la pena dedicar un tiempo de preparación a Adviento. Ojalá aprovechemos este espacio que nos ofrece la parroquia.
URL:https://parroquiadelrosario.es/evento/retiro-de-adviento-nacidos-para-amar/
LOCATION:El Rosario\, Plaza Franciscanos\, 3\, Madrid\, 28011\, España
CATEGORIES:Comunidad
ORGANIZER;CN="Parroquia":MAILTO:rosario@pazybien.org
END:VEVENT
END:VCALENDAR