BEGIN:VCALENDAR
VERSION:2.0
PRODID:-//Parroquia Nuestra Señora del Rosario - ECPv6.15.20//NONSGML v1.0//EN
CALSCALE:GREGORIAN
METHOD:PUBLISH
X-ORIGINAL-URL:https://parroquiadelrosario.es
X-WR-CALDESC:Eventos para Parroquia Nuestra Señora del Rosario
REFRESH-INTERVAL;VALUE=DURATION:PT1H
X-Robots-Tag:noindex
X-PUBLISHED-TTL:PT1H
BEGIN:VTIMEZONE
TZID:Europe/Paris
BEGIN:DAYLIGHT
TZOFFSETFROM:+0100
TZOFFSETTO:+0200
TZNAME:CEST
DTSTART:20240331T010000
END:DAYLIGHT
BEGIN:STANDARD
TZOFFSETFROM:+0200
TZOFFSETTO:+0100
TZNAME:CET
DTSTART:20241027T010000
END:STANDARD
BEGIN:DAYLIGHT
TZOFFSETFROM:+0100
TZOFFSETTO:+0200
TZNAME:CEST
DTSTART:20250330T010000
END:DAYLIGHT
BEGIN:STANDARD
TZOFFSETFROM:+0200
TZOFFSETTO:+0100
TZNAME:CET
DTSTART:20251026T010000
END:STANDARD
BEGIN:DAYLIGHT
TZOFFSETFROM:+0100
TZOFFSETTO:+0200
TZNAME:CEST
DTSTART:20260329T010000
END:DAYLIGHT
BEGIN:STANDARD
TZOFFSETFROM:+0200
TZOFFSETTO:+0100
TZNAME:CET
DTSTART:20261025T010000
END:STANDARD
END:VTIMEZONE
BEGIN:VEVENT
DTSTART;VALUE=DATE:20251130
DTEND;VALUE=DATE:20251225
DTSTAMP:20260423T021050
CREATED:20251128T202827Z
LAST-MODIFIED:20251128T202827Z
UID:4895-1764460800-1766620799@parroquiadelrosario.es
SUMMARY:Adviento 2025 - Oración Franciscana
DESCRIPTION:Este Adviento\, Dios se hace nuestro hermano. \nTe invitamos a parar\, respirar y dejarte sorprender por un Dios que se acerca en lo pequeño y en lo sencillo. Imágenes\, Palabra\, silencio y vida real. Así\, simple. Así\, profundo. Mira el vídeo y súmate al camino. \nToda la oración completa aparecerá en nuestra web:\n👉 https://franciscanosconventuales.es/oracion-franciscana/
URL:https://parroquiadelrosario.es/evento/adviento-2025-oracion-franciscana/
CATEGORIES:Comunidad
ATTACH;FMTTYPE=image/jpeg:https://parroquiadelrosario.es/wp-content/uploads/2025/11/Cartel-adviento-2025.jpg
END:VEVENT
BEGIN:VEVENT
DTSTART;TZID=Europe/Paris:20251213T110000
DTEND;TZID=Europe/Paris:20251213T133000
DTSTAMP:20260423T021050
CREATED:20251208T140002Z
LAST-MODIFIED:20251208T140210Z
UID:4907-1765623600-1765632600@parroquiadelrosario.es
SUMMARY:Aguinaldo para Cáritas 2025
DESCRIPTION:Queremos colaborar con Cáritas Parroquial y aportar nuestro granito de arena para ayudar a las familias que atiende. Por eso\, el sábado 13 de diciembre nos gustaría salir a la calle juntos a pedir el Aguinaldo para Cáritas. \nComenzaremos a las 11:00 horas en el colegio y realizaremos esta actividad solidaria tan bonita.\nPediremos el aguinaldo cantando en diferentes puntos de afluencia del barrio (Centro cultural\, Bar Juca\, Día\, Metro Batán\, etc.). Y compartiremos este momento de convivencia y de encuentro de la comunidad educativa en favor de los más necesitados. Concluiremos a las 13:30 horas en la Parroquia de Nuestra Señora del Rosario (Pza. de los Franciscanos 3). \n¡Animaos! ¡Preparad vuestra zambombas y panderetas e inscribiros pinchando en el enlace! \nhttps://forms.gle/D7NZ9UmdUxxE6uDU6 \n 
URL:https://parroquiadelrosario.es/evento/aguinaldo-para-caritas-3/
CATEGORIES:Comunidad
ATTACH;FMTTYPE=image/jpeg:https://parroquiadelrosario.es/wp-content/uploads/2025/12/Aguinaldo-2025.jpeg
ORGANIZER;CN="Parroquia":MAILTO:rosario@pazybien.org
END:VEVENT
END:VCALENDAR