BEGIN:VCALENDAR
VERSION:2.0
PRODID:-//Parroquia Nuestra Señora del Rosario - ECPv6.15.20//NONSGML v1.0//EN
CALSCALE:GREGORIAN
METHOD:PUBLISH
X-ORIGINAL-URL:https://parroquiadelrosario.es
X-WR-CALDESC:Eventos para Parroquia Nuestra Señora del Rosario
REFRESH-INTERVAL;VALUE=DURATION:PT1H
X-Robots-Tag:noindex
X-PUBLISHED-TTL:PT1H
BEGIN:VTIMEZONE
TZID:Europe/Paris
BEGIN:DAYLIGHT
TZOFFSETFROM:+0100
TZOFFSETTO:+0200
TZNAME:CEST
DTSTART:20250330T010000
END:DAYLIGHT
BEGIN:STANDARD
TZOFFSETFROM:+0200
TZOFFSETTO:+0100
TZNAME:CET
DTSTART:20251026T010000
END:STANDARD
BEGIN:DAYLIGHT
TZOFFSETFROM:+0100
TZOFFSETTO:+0200
TZNAME:CEST
DTSTART:20260329T010000
END:DAYLIGHT
BEGIN:STANDARD
TZOFFSETFROM:+0200
TZOFFSETTO:+0100
TZNAME:CET
DTSTART:20261025T010000
END:STANDARD
BEGIN:DAYLIGHT
TZOFFSETFROM:+0100
TZOFFSETTO:+0200
TZNAME:CEST
DTSTART:20270328T010000
END:DAYLIGHT
BEGIN:STANDARD
TZOFFSETFROM:+0200
TZOFFSETTO:+0100
TZNAME:CET
DTSTART:20271031T010000
END:STANDARD
END:VTIMEZONE
BEGIN:VEVENT
DTSTART;TZID=Europe/Paris:20260204T190000
DTEND;TZID=Europe/Paris:20260303T200000
DTSTAMP:20260423T005113
CREATED:20251011T182753Z
LAST-MODIFIED:20260301T125007Z
UID:4815-1770231600-1772568000@parroquiadelrosario.es
SUMMARY:Centro de escucha: TE ESCUCHAMOS
DESCRIPTION:Desde la Parroquia de Nuestra Señora del Rosario queremos compartir con vosotros un nuevo proyecto que nace del deseo de servir\, acompañar y acoger a quienes más lo necesitan. Este proyecto se llama “Te Escuchamos”\, y está dirigido a cualquier persona que se sienta sola\, desorientada o necesite ser escuchada con empatía y respeto. \nEste servicio de acogida se ofrece todos los miércoles de 19:00 a 20:00\, aquí mismo\, en la Parroquia del Rosario. Para poder atenderos mejor\, es necesario solicitar cita previa en ese mismo horario. \nSi sientes que las preocupaciones te abruman y no tienes con quién compartirlas. Si estás solo/a o crees estarlo y necesitas ser escuchado\, ¡ven a la parroquia! En nuestro Centro de Escucha estaremos encantados/as de conocerte y acogerte. Un espacio seguro\, confiable\, sin prejuicios ni valoraciones y con total confidencialidad. \nEn “Te Escuchamos” encontrarás una comunidad que te recibe con cariño\, esperanza y el compromiso de estar a tu lado. Creemos que nadie debería sentirse solo\, y que el primer paso para sanar muchas heridas es ser escuchado con el corazón. \nMuchas gracias por vuestra atención y por ser parte de esta comunidad que quiere crecer en amor y servicio.
URL:https://parroquiadelrosario.es/evento/te-escuchamos/
LOCATION:El Rosario\, Plaza Franciscanos\, 3\, Madrid\, 28011\, España
CATEGORIES:Comunidad
ATTACH;FMTTYPE=image/jpeg:https://parroquiadelrosario.es/wp-content/uploads/2025/10/Cartel-Escucha-2.1.jpg
ORGANIZER;CN="Parroquia":MAILTO:rosario@pazybien.org
END:VEVENT
END:VCALENDAR