BEGIN:VCALENDAR
VERSION:2.0
PRODID:-//Parroquia Nuestra Señora del Rosario - ECPv6.15.20//NONSGML v1.0//EN
CALSCALE:GREGORIAN
METHOD:PUBLISH
X-WR-CALNAME:Parroquia Nuestra Señora del Rosario
X-ORIGINAL-URL:https://parroquiadelrosario.es
X-WR-CALDESC:Eventos para Parroquia Nuestra Señora del Rosario
REFRESH-INTERVAL;VALUE=DURATION:PT1H
X-Robots-Tag:noindex
X-PUBLISHED-TTL:PT1H
BEGIN:VTIMEZONE
TZID:Europe/Paris
BEGIN:DAYLIGHT
TZOFFSETFROM:+0100
TZOFFSETTO:+0200
TZNAME:CEST
DTSTART:20250330T010000
END:DAYLIGHT
BEGIN:STANDARD
TZOFFSETFROM:+0200
TZOFFSETTO:+0100
TZNAME:CET
DTSTART:20251026T010000
END:STANDARD
BEGIN:DAYLIGHT
TZOFFSETFROM:+0100
TZOFFSETTO:+0200
TZNAME:CEST
DTSTART:20260329T010000
END:DAYLIGHT
BEGIN:STANDARD
TZOFFSETFROM:+0200
TZOFFSETTO:+0100
TZNAME:CET
DTSTART:20261025T010000
END:STANDARD
BEGIN:DAYLIGHT
TZOFFSETFROM:+0100
TZOFFSETTO:+0200
TZNAME:CEST
DTSTART:20270328T010000
END:DAYLIGHT
BEGIN:STANDARD
TZOFFSETFROM:+0200
TZOFFSETTO:+0100
TZNAME:CET
DTSTART:20271031T010000
END:STANDARD
END:VTIMEZONE
BEGIN:VEVENT
DTSTART;VALUE=DATE:20260217
DTEND;VALUE=DATE:20260312
DTSTAMP:20260423T024505
CREATED:20260215T183522Z
LAST-MODIFIED:20260215T183522Z
UID:4979-1771286400-1773273599@parroquiadelrosario.es
SUMMARY:Colegio San Buenaventura - Jornadas de Puertas Abiertas
DESCRIPTION:Si estáis buscando un colegio para vuestros hijos os invitamos a descubrir el Colegio San Buenaventura\, donde la formación intelectual se conjuga con la formación de corazones grandes basándonos en la acogida\, la alegría\, la fraternidad y el espíritu de Paz y Bien de nuestra Orden Franciscana. \nSi quieres conocer el colegio apúntate en el QR siguiente para visitarnos el 17\, 20\, 25 y 27 de febrero o el 2\, 6 y 11 de marzo. ¡Te esperamos!
URL:https://parroquiadelrosario.es/evento/colegio-san-buenaventura-jornadas-de-puertas-abiertas/
LOCATION:Santa Clara\, El Greco\, 16\, Madrid\, 28011\, España
CATEGORIES:Comunidad
ATTACH;FMTTYPE=image/jpeg:https://parroquiadelrosario.es/wp-content/uploads/2026/02/Puertas-abiertas-Sanbuena.jpg
ORGANIZER;CN="Parroquia":MAILTO:rosario@pazybien.org
END:VEVENT
BEGIN:VEVENT
DTSTART;VALUE=DATE:20260218
DTEND;VALUE=DATE:20260402
DTSTAMP:20260423T024505
CREATED:20260301T130231Z
LAST-MODIFIED:20260324T131859Z
UID:5010-1771372800-1775087999@parroquiadelrosario.es
SUMMARY:Oración Franciscana - Cuaresma
DESCRIPTION:Estamos en Cuaresma. Y no queremos vivirla en modo automático.  \nPor eso lanzamos #OraciónFranciscana: un espacio sencillo para parar\, escuchar la Palabra y dejar que ilumine lo que estás viviendo de verdad. Menos ruido. Más Evangelio.  \n¿Caminamos juntos estos 40 días?
URL:https://parroquiadelrosario.es/evento/oracion-franciscana-cuaresma/
CATEGORIES:Comunidad
ATTACH;FMTTYPE=image/jpeg:https://parroquiadelrosario.es/wp-content/uploads/2026/03/Oracion-Franciscana-Cuaresma-2026.jpg
END:VEVENT
BEGIN:VEVENT
DTSTART;TZID=Europe/Paris:20260307T170000
DTEND;TZID=Europe/Paris:20260307T190000
DTSTAMP:20260423T024505
CREATED:20260205T132711Z
LAST-MODIFIED:20260205T181851Z
UID:4961-1772902800-1772910000@parroquiadelrosario.es
SUMMARY:Adoración y Alabanza
DESCRIPTION:El sábado 7 de marzo a las 17:00 nos reuniremos para alabar al Señor como comunidad viva\, agradecida por su presencia constante entre nosotros. \nEl Papa Francisco nos invitó a considerar la alabanza como una parte esencial de la vida cristiana. La alabanza es la forma de orar que reconoce de la manera más directa que Dios es Dios. Alabamos a Dios por Él mismo\, le damos gloria no por lo que hace\, sino por lo que Él es (Cfr. CEC 2639). La alabanza es un acto de reconocimiento y de adoración\, de gratitud y de bendición a nuestro Creador y Redentor. \nSan Francisco es conocido por su profunda relación con Dios y su forma única de alabanza. El santo de Asís enseñaba que la verdadera alabanza nace del corazón humilde y de la sencillez. Para él\, alabar a Dios era sinónimo de alegría. Su vida reflejaba una actitud de gratitud ante todo lo que Dios le daba\, incluso en la pobreza y las dificultades. \nSan Francisco vivía una espiritualidad de alabanza constante. Para él no había momento ni lugar en el que no se pudiera alabar a Dios. Desde los momentos de alegría hasta los de dolor\, San Francisco veía la mano de Dios en todo. Esto nos invita a cultivar una actitud de alabanza permanente\, reconociendo la presencia divina en cada instante de nuestra vida. \nNuestra parroquia franciscana va a cuidar la alabanza comunitaria\, empezando con este encuentro del sábado 7 de marzo. Nos encontramos en la iglesia de Nuestra Señora de El Rosario.
URL:https://parroquiadelrosario.es/evento/adoracion-y-alabanza/
LOCATION:El Rosario\, Plaza Franciscanos\, 3\, Madrid\, 28011\, España
CATEGORIES:Comunidad
ATTACH;FMTTYPE=image/jpeg:https://parroquiadelrosario.es/wp-content/uploads/2026/02/Alabanza.jpg
ORGANIZER;CN="Parroquia":MAILTO:rosario@pazybien.org
END:VEVENT
END:VCALENDAR