BEGIN:VCALENDAR
VERSION:2.0
PRODID:-//Parroquia Nuestra Señora del Rosario - ECPv6.15.20//NONSGML v1.0//EN
CALSCALE:GREGORIAN
METHOD:PUBLISH
X-ORIGINAL-URL:https://parroquiadelrosario.es
X-WR-CALDESC:Eventos para Parroquia Nuestra Señora del Rosario
REFRESH-INTERVAL;VALUE=DURATION:PT1H
X-Robots-Tag:noindex
X-PUBLISHED-TTL:PT1H
BEGIN:VTIMEZONE
TZID:Europe/Paris
BEGIN:DAYLIGHT
TZOFFSETFROM:+0100
TZOFFSETTO:+0200
TZNAME:CEST
DTSTART:20250330T010000
END:DAYLIGHT
BEGIN:STANDARD
TZOFFSETFROM:+0200
TZOFFSETTO:+0100
TZNAME:CET
DTSTART:20251026T010000
END:STANDARD
BEGIN:DAYLIGHT
TZOFFSETFROM:+0100
TZOFFSETTO:+0200
TZNAME:CEST
DTSTART:20260329T010000
END:DAYLIGHT
BEGIN:STANDARD
TZOFFSETFROM:+0200
TZOFFSETTO:+0100
TZNAME:CET
DTSTART:20261025T010000
END:STANDARD
BEGIN:DAYLIGHT
TZOFFSETFROM:+0100
TZOFFSETTO:+0200
TZNAME:CEST
DTSTART:20270328T010000
END:DAYLIGHT
BEGIN:STANDARD
TZOFFSETFROM:+0200
TZOFFSETTO:+0100
TZNAME:CET
DTSTART:20271031T010000
END:STANDARD
END:VTIMEZONE
BEGIN:VEVENT
DTSTART;VALUE=DATE:20260406
DTEND;VALUE=DATE:20260501
DTSTAMP:20260423T010732
CREATED:20260406T141851Z
LAST-MODIFIED:20260406T141851Z
UID:5061-1775433600-1777593599@parroquiadelrosario.es
SUMMARY:Participa en la visita del Papa León XIV a Madrid como voluntario
DESCRIPTION:Con motivo de la próxima visita pastoral del Papa León XIV a Madrid\, la Iglesia de Madrid continúa avanzando en los preparativos\, y ya ha abierto la inscripción para aquellos que desean colaborar como voluntarios o como familia de acogida. \nSi lo deseas\, puedes hacerlo en la plataforma madrid.conelpapa.es\, el códifo de nuestra parroquia es MAD-RD3V2. \n 
URL:https://parroquiadelrosario.es/evento/participa-en-la-visita-del-papa-leon-xiv-a-madrid-como-voluntario/
CATEGORIES:Comunidad
ATTACH;FMTTYPE=image/jpeg:https://parroquiadelrosario.es/wp-content/uploads/2026/04/Cartel-Papa-2026_2.jpg
END:VEVENT
END:VCALENDAR