BEGIN:VCALENDAR
VERSION:2.0
PRODID:-//Parroquia Nuestra Señora del Rosario - ECPv6.15.20//NONSGML v1.0//EN
CALSCALE:GREGORIAN
METHOD:PUBLISH
X-ORIGINAL-URL:https://parroquiadelrosario.es
X-WR-CALDESC:Eventos para Parroquia Nuestra Señora del Rosario
REFRESH-INTERVAL;VALUE=DURATION:PT1H
X-Robots-Tag:noindex
X-PUBLISHED-TTL:PT1H
BEGIN:VTIMEZONE
TZID:Europe/Paris
BEGIN:DAYLIGHT
TZOFFSETFROM:+0100
TZOFFSETTO:+0200
TZNAME:CEST
DTSTART:20250330T010000
END:DAYLIGHT
BEGIN:STANDARD
TZOFFSETFROM:+0200
TZOFFSETTO:+0100
TZNAME:CET
DTSTART:20251026T010000
END:STANDARD
BEGIN:DAYLIGHT
TZOFFSETFROM:+0100
TZOFFSETTO:+0200
TZNAME:CEST
DTSTART:20260329T010000
END:DAYLIGHT
BEGIN:STANDARD
TZOFFSETFROM:+0200
TZOFFSETTO:+0100
TZNAME:CET
DTSTART:20261025T010000
END:STANDARD
BEGIN:DAYLIGHT
TZOFFSETFROM:+0100
TZOFFSETTO:+0200
TZNAME:CEST
DTSTART:20270328T010000
END:DAYLIGHT
BEGIN:STANDARD
TZOFFSETFROM:+0200
TZOFFSETTO:+0100
TZNAME:CET
DTSTART:20271031T010000
END:STANDARD
END:VTIMEZONE
BEGIN:VEVENT
DTSTART;VALUE=DATE:20260420
DTEND;VALUE=DATE:20260516
DTSTAMP:20260423T010757
CREATED:20260422T130753Z
LAST-MODIFIED:20260422T130907Z
UID:5072-1776643200-1778889599@parroquiadelrosario.es
SUMMARY:Acude a los Eventos del Papa con la Parroquia
DESCRIPTION:En el siguiente enlace te puedes inscribir para acudir a los eventos públicos de la visita del Papa León XIV con la parroquia. Nos asignarán un espacio determinado y estaremos todos juntos:\nhttps://inscripciones.conelpapa.es/auto-inscripcion/EDBC28D8 \nTambién puedes escanear el QR de abajo. \nEl espacio será limitado\, ¡inscríbete cuanto antes y no pierdas esta oportunidad!
URL:https://parroquiadelrosario.es/evento/acude-a-los-eventos-del-papa-con-la-parroquia/
CATEGORIES:Comunidad
ATTACH;FMTTYPE=image/jpeg:https://parroquiadelrosario.es/wp-content/uploads/2026/04/LeonXIV-1.jpg
ORGANIZER;CN="Parroquia":MAILTO:rosario@pazybien.org
END:VEVENT
END:VCALENDAR