BEGIN:VCALENDAR
VERSION:2.0
PRODID:-//Parroquia Nuestra Señora del Rosario - ECPv6.15.20//NONSGML v1.0//EN
CALSCALE:GREGORIAN
METHOD:PUBLISH
X-ORIGINAL-URL:https://parroquiadelrosario.es
X-WR-CALDESC:Eventos para Parroquia Nuestra Señora del Rosario
REFRESH-INTERVAL;VALUE=DURATION:PT1H
X-Robots-Tag:noindex
X-PUBLISHED-TTL:PT1H
BEGIN:VTIMEZONE
TZID:Europe/Paris
BEGIN:DAYLIGHT
TZOFFSETFROM:+0100
TZOFFSETTO:+0200
TZNAME:CEST
DTSTART:20250330T010000
END:DAYLIGHT
BEGIN:STANDARD
TZOFFSETFROM:+0200
TZOFFSETTO:+0100
TZNAME:CET
DTSTART:20251026T010000
END:STANDARD
BEGIN:DAYLIGHT
TZOFFSETFROM:+0100
TZOFFSETTO:+0200
TZNAME:CEST
DTSTART:20260329T010000
END:DAYLIGHT
BEGIN:STANDARD
TZOFFSETFROM:+0200
TZOFFSETTO:+0100
TZNAME:CET
DTSTART:20261025T010000
END:STANDARD
BEGIN:DAYLIGHT
TZOFFSETFROM:+0100
TZOFFSETTO:+0200
TZNAME:CEST
DTSTART:20270328T010000
END:DAYLIGHT
BEGIN:STANDARD
TZOFFSETFROM:+0200
TZOFFSETTO:+0100
TZNAME:CET
DTSTART:20271031T010000
END:STANDARD
END:VTIMEZONE
BEGIN:VEVENT
DTSTART;VALUE=DATE:20260218
DTEND;VALUE=DATE:20260402
DTSTAMP:20260423T005618
CREATED:20260301T130231Z
LAST-MODIFIED:20260324T131859Z
UID:5010-1771372800-1775087999@parroquiadelrosario.es
SUMMARY:Oración Franciscana - Cuaresma
DESCRIPTION:Estamos en Cuaresma. Y no queremos vivirla en modo automático.  \nPor eso lanzamos #OraciónFranciscana: un espacio sencillo para parar\, escuchar la Palabra y dejar que ilumine lo que estás viviendo de verdad. Menos ruido. Más Evangelio.  \n¿Caminamos juntos estos 40 días?
URL:https://parroquiadelrosario.es/evento/oracion-franciscana-cuaresma/
CATEGORIES:Comunidad
ATTACH;FMTTYPE=image/jpeg:https://parroquiadelrosario.es/wp-content/uploads/2026/03/Oracion-Franciscana-Cuaresma-2026.jpg
END:VEVENT
BEGIN:VEVENT
DTSTART;VALUE=DATE:20260401
DTEND;VALUE=DATE:20260406
DTSTAMP:20260423T005618
CREATED:20260307T203449Z
LAST-MODIFIED:20260307T203449Z
UID:5016-1775001600-1775433599@parroquiadelrosario.es
SUMMARY:Pascua Franciscana 2026
DESCRIPTION:Ya llega la PASCUA FRANCISCANA 2026 \n🫵🏻 Adéntrate en el Triduo Pascual junto a otros jóvenes\, adolescentes\, familias y adultos del 1 al 5 de abril en Madrid. \n❤️‍🩹 Vive el lema de este año (“Se entregó para hacernos hermanos”) en un clima de fraternidad y comunión. \n💭 Reza y ahonda en las claves de cada día a través de las catequesis bíblicas y litúrgicas\, los momentos de silencio y el tiempo de compartir; deja que el Señor te hable al corazón. \n🫂 Celebra la Pasión\, Muerte y Resurrección de Cristo de la mano de san Francisco de Asís\, en las celebraciones de cada día. \nℹ️ El precio lo podéis encontrar en el formulario. Puedes pagar en efectivo\, por Bizum (donación a ONG – 07137) o por transferencia (datos en el forms)\, con este concepto: PASCUA + Nombre y apellidos. \n🔗 A continuación os dejamos el FORMULARIO GENERAL (también tiene información importante\, ¡haz una captura para recordarlo todo!). Desde ahí\, tendréis que acceder al formulario que corresponda a Inscripción familias y adultos para registrar vuestra respuesta https://forms.gle/DacoeTZvArHJWTzY6. \n📧 Para cualquier duda\, podéis escribir a pastoral@pazybien.org o a pastoral@sanbuenaventura.org ¡Os esperamos! ¡Paz y Bien!
URL:https://parroquiadelrosario.es/evento/pascua-franciscana-2026/
LOCATION:Santa Clara\, El Greco\, 16\, Madrid\, 28011\, España
CATEGORIES:Comunidad
ATTACH;FMTTYPE=image/jpeg:https://parroquiadelrosario.es/wp-content/uploads/2026/03/Pascua-Franciscana-2026.jpeg
END:VEVENT
BEGIN:VEVENT
DTSTART;VALUE=DATE:20260402
DTEND;VALUE=DATE:20260406
DTSTAMP:20260423T005618
CREATED:20250407T204735Z
LAST-MODIFIED:20260401T103214Z
UID:4620-1775088000-1775433599@parroquiadelrosario.es
SUMMARY:Triduo Pascual 2026 - Celebraciones
DESCRIPTION:JUEVES SANTO\, 2 de abril\nLaudes\n– a las 09:30 (El Rosario)\nCena del Señor\n– a las 18:00 (El Rosario)\n– a las 19:00 (Santa Clara)\nHora Santa\n– a las 21:30 (El Rosario)\n– a las 22:30 (Santa Clara) \nVIERNES SANTO\, 3 de abril\nLaudes\n– a las 09:30 (El Rosario)\nVía Crucis\n– a las 11:00 (El Rosario)\nCelebración de la Pasión y Muerte de Nuestro Señor Jesucristo\n– a las 18:00 (El Rosario)\n– a las 19:00 (Santa Clara)\nContemplación de la Cruz\n– a las 22:30 h. (Santa Clara)\nVía Crucis y Adoración de la Cruz \nSÁBADO SANTO\, 4 de abril\nLaudes\n– a las 09:30 (El Rosario)\nEncuentro con María\, la Madre del Señor\n– a las 19:30 (El Rosario)\nVIGILIA PASCUAL\n– a las 22:30 (Santa Clara) \nDOMINGO DE RESURRECCIÓN\, 5 de abril\n– a las 11:00 (El Rosario)\n– a las 12:30 (Santa Clara)\n– a las 12:30 (El Rosario)\n– a las 13:00 (Capilla Divino Maestro) \nEl domingo de Resurrección no habrá eucaristía de 19:30 en El Rosario
URL:https://parroquiadelrosario.es/evento/triduo-pascual-2025-celebraciones/
CATEGORIES:Comunidad
ATTACH;FMTTYPE=image/jpeg:https://parroquiadelrosario.es/wp-content/uploads/2025/04/Triduo-Pascual-202_corregido.jpg
ORGANIZER;CN="Parroquia":MAILTO:rosario@pazybien.org
END:VEVENT
BEGIN:VEVENT
DTSTART;VALUE=DATE:20260406
DTEND;VALUE=DATE:20260501
DTSTAMP:20260423T005618
CREATED:20260406T141851Z
LAST-MODIFIED:20260406T141851Z
UID:5061-1775433600-1777593599@parroquiadelrosario.es
SUMMARY:Participa en la visita del Papa León XIV a Madrid como voluntario
DESCRIPTION:Con motivo de la próxima visita pastoral del Papa León XIV a Madrid\, la Iglesia de Madrid continúa avanzando en los preparativos\, y ya ha abierto la inscripción para aquellos que desean colaborar como voluntarios o como familia de acogida. \nSi lo deseas\, puedes hacerlo en la plataforma madrid.conelpapa.es\, el códifo de nuestra parroquia es MAD-RD3V2. \n 
URL:https://parroquiadelrosario.es/evento/participa-en-la-visita-del-papa-leon-xiv-a-madrid-como-voluntario/
CATEGORIES:Comunidad
ATTACH;FMTTYPE=image/jpeg:https://parroquiadelrosario.es/wp-content/uploads/2026/04/Cartel-Papa-2026_2.jpg
END:VEVENT
BEGIN:VEVENT
DTSTART;TZID=Europe/Paris:20260411T110000
DTEND;TZID=Europe/Paris:20260411T130000
DTSTAMP:20260423T005618
CREATED:20260402T120406Z
LAST-MODIFIED:20260402T120406Z
UID:5052-1775905200-1775912400@parroquiadelrosario.es
SUMMARY:Sábados Inquietos: Redes Sociales\, ¿peligro u oportunidad?
DESCRIPTION:El próximo sábado 11 de abril a las 11:00 tendremos el último Sábado Inquieto de este curso con un tema muy interesante y de plena actualidad: las Redes Sociales. Como cristianos no sabemos si son un peligro o una oportunidad para evangelizar. \nIgnacio Amorós será quien nos acompañe en esta ocasión. Es sacerdote\, escritor\, capellán del Ceu san Pablo Madrid y\, entre otras muchas cosas\, fundador del canal de evangelización católica Se Buscan Rebeldes. \nComo siempre\, será en el Salón de Actos de la parroquia. Os invitamos a asistir y a invitar a aquellas personas que creamos que pueda interesarles. Seguro que será un encuentro muy enriquecedor. \n¡Os esperamos a todos!
URL:https://parroquiadelrosario.es/evento/sabados-inquietos-redes-sociales-peligro-u-oportunidad/
LOCATION:El Rosario\, Plaza Franciscanos\, 3\, Madrid\, 28011\, España
CATEGORIES:Comunidad
ATTACH;FMTTYPE=image/jpeg:https://parroquiadelrosario.es/wp-content/uploads/2026/04/Cartel-Sabado-Inquieto-I.-Amoros2.jpg
ORGANIZER;CN="Parroquia":MAILTO:rosario@pazybien.org
END:VEVENT
BEGIN:VEVENT
DTSTART;TZID=Europe/Paris:20260411T170000
DTEND;TZID=Europe/Paris:20260411T190000
DTSTAMP:20260423T005618
CREATED:20211203T155330Z
LAST-MODIFIED:20260406T170950Z
UID:2380-1775926800-1775934000@parroquiadelrosario.es
SUMMARY:Sábados con la Inmaculada
DESCRIPTION:El sábado 11 de abril a las 17:00 se reúne la Milicia de la Inmaculada para el encuentro de oración\, adoración y enseñanza con san Maximiliano María Kolbe. \nLos siguientes encuentros de este curso serán: 30-31 mayo – Asamblea nacional electiva en Madrid y 20 junio a las 17:00\, con consagraciones en la eucaristía. \nEl grupo de la Milicia de la Inmaculada de nuestra parroquia os invita a compartir en comunidad la alegría de la Virgen en la Pascua de su Hijo\, nuestro Señor Jesucristo. \n¡Os esperamos!
URL:https://parroquiadelrosario.es/evento/sabados-con-la-inmaculada/
LOCATION:El Rosario\, Plaza Franciscanos\, 3\, Madrid\, 28011\, España
CATEGORIES:Comunidad
ATTACH;FMTTYPE=image/jpeg:https://parroquiadelrosario.es/wp-content/uploads/2021/12/sabados-11042026.jpeg
ORGANIZER;CN="Parroquia":MAILTO:rosario@pazybien.org
END:VEVENT
BEGIN:VEVENT
DTSTART;VALUE=DATE:20260420
DTEND;VALUE=DATE:20260516
DTSTAMP:20260423T005618
CREATED:20260422T130753Z
LAST-MODIFIED:20260422T130907Z
UID:5072-1776643200-1778889599@parroquiadelrosario.es
SUMMARY:Acude a los Eventos del Papa con la Parroquia
DESCRIPTION:En el siguiente enlace te puedes inscribir para acudir a los eventos públicos de la visita del Papa León XIV con la parroquia. Nos asignarán un espacio determinado y estaremos todos juntos:\nhttps://inscripciones.conelpapa.es/auto-inscripcion/EDBC28D8 \nTambién puedes escanear el QR de abajo. \nEl espacio será limitado\, ¡inscríbete cuanto antes y no pierdas esta oportunidad!
URL:https://parroquiadelrosario.es/evento/acude-a-los-eventos-del-papa-con-la-parroquia/
CATEGORIES:Comunidad
ATTACH;FMTTYPE=image/jpeg:https://parroquiadelrosario.es/wp-content/uploads/2026/04/LeonXIV-1.jpg
ORGANIZER;CN="Parroquia":MAILTO:rosario@pazybien.org
END:VEVENT
END:VCALENDAR