BEGIN:VCALENDAR
VERSION:2.0
PRODID:-//Parroquia Nuestra Señora del Rosario - ECPv6.15.20//NONSGML v1.0//EN
CALSCALE:GREGORIAN
METHOD:PUBLISH
X-WR-CALNAME:Parroquia Nuestra Señora del Rosario
X-ORIGINAL-URL:https://parroquiadelrosario.es
X-WR-CALDESC:Eventos para Parroquia Nuestra Señora del Rosario
REFRESH-INTERVAL;VALUE=DURATION:PT1H
X-Robots-Tag:noindex
X-PUBLISHED-TTL:PT1H
BEGIN:VTIMEZONE
TZID:Europe/Paris
BEGIN:DAYLIGHT
TZOFFSETFROM:+0100
TZOFFSETTO:+0200
TZNAME:CEST
DTSTART:20240331T010000
END:DAYLIGHT
BEGIN:STANDARD
TZOFFSETFROM:+0200
TZOFFSETTO:+0100
TZNAME:CET
DTSTART:20241027T010000
END:STANDARD
BEGIN:DAYLIGHT
TZOFFSETFROM:+0100
TZOFFSETTO:+0200
TZNAME:CEST
DTSTART:20250330T010000
END:DAYLIGHT
BEGIN:STANDARD
TZOFFSETFROM:+0200
TZOFFSETTO:+0100
TZNAME:CET
DTSTART:20251026T010000
END:STANDARD
BEGIN:DAYLIGHT
TZOFFSETFROM:+0100
TZOFFSETTO:+0200
TZNAME:CEST
DTSTART:20260329T010000
END:DAYLIGHT
BEGIN:STANDARD
TZOFFSETFROM:+0200
TZOFFSETTO:+0100
TZNAME:CET
DTSTART:20261025T010000
END:STANDARD
BEGIN:DAYLIGHT
TZOFFSETFROM:+0100
TZOFFSETTO:+0200
TZNAME:CEST
DTSTART:20270328T010000
END:DAYLIGHT
BEGIN:STANDARD
TZOFFSETFROM:+0200
TZOFFSETTO:+0100
TZNAME:CET
DTSTART:20271031T010000
END:STANDARD
END:VTIMEZONE
BEGIN:VEVENT
DTSTART;VALUE=DATE:20251130
DTEND;VALUE=DATE:20251225
DTSTAMP:20260423T005029
CREATED:20251128T202827Z
LAST-MODIFIED:20251128T202827Z
UID:4895-1764460800-1766620799@parroquiadelrosario.es
SUMMARY:Adviento 2025 - Oración Franciscana
DESCRIPTION:Este Adviento\, Dios se hace nuestro hermano. \nTe invitamos a parar\, respirar y dejarte sorprender por un Dios que se acerca en lo pequeño y en lo sencillo. Imágenes\, Palabra\, silencio y vida real. Así\, simple. Así\, profundo. Mira el vídeo y súmate al camino. \nToda la oración completa aparecerá en nuestra web:\n👉 https://franciscanosconventuales.es/oracion-franciscana/
URL:https://parroquiadelrosario.es/evento/adviento-2025-oracion-franciscana/
CATEGORIES:Comunidad
ATTACH;FMTTYPE=image/jpeg:https://parroquiadelrosario.es/wp-content/uploads/2025/11/Cartel-adviento-2025.jpg
END:VEVENT
BEGIN:VEVENT
DTSTART;TZID=Europe/Paris:20251213T110000
DTEND;TZID=Europe/Paris:20251213T133000
DTSTAMP:20260423T005029
CREATED:20251208T140002Z
LAST-MODIFIED:20251208T140210Z
UID:4907-1765623600-1765632600@parroquiadelrosario.es
SUMMARY:Aguinaldo para Cáritas 2025
DESCRIPTION:Queremos colaborar con Cáritas Parroquial y aportar nuestro granito de arena para ayudar a las familias que atiende. Por eso\, el sábado 13 de diciembre nos gustaría salir a la calle juntos a pedir el Aguinaldo para Cáritas. \nComenzaremos a las 11:00 horas en el colegio y realizaremos esta actividad solidaria tan bonita.\nPediremos el aguinaldo cantando en diferentes puntos de afluencia del barrio (Centro cultural\, Bar Juca\, Día\, Metro Batán\, etc.). Y compartiremos este momento de convivencia y de encuentro de la comunidad educativa en favor de los más necesitados. Concluiremos a las 13:30 horas en la Parroquia de Nuestra Señora del Rosario (Pza. de los Franciscanos 3). \n¡Animaos! ¡Preparad vuestra zambombas y panderetas e inscribiros pinchando en el enlace! \nhttps://forms.gle/D7NZ9UmdUxxE6uDU6 \n 
URL:https://parroquiadelrosario.es/evento/aguinaldo-para-caritas-3/
CATEGORIES:Comunidad
ATTACH;FMTTYPE=image/jpeg:https://parroquiadelrosario.es/wp-content/uploads/2025/12/Aguinaldo-2025.jpeg
ORGANIZER;CN="Parroquia":MAILTO:rosario@pazybien.org
END:VEVENT
BEGIN:VEVENT
DTSTART;TZID=Europe/Paris:20251219T183000
DTEND;TZID=Europe/Paris:20251219T210000
DTSTAMP:20260423T005029
CREATED:20241214T171329Z
LAST-MODIFIED:20251215T124843Z
UID:4465-1766169000-1766178000@parroquiadelrosario.es
SUMMARY:Navidad con The Chosen
DESCRIPTION:El viernes 19 de diciembre a las 18:30 horas veremos juntos en el Salón de Actos de la parroquia un episodio de la serie The Chosen que nos aproxima a Jesucristo para mejor conocerle\, amarle y seguirle. \nEs una ocasión especial\, ¡no te lo pierdas! Después cantaremos villancicos y nos felicitaremos la Navidad tomando algo juntos. Estáis todos invitados: niños\, jóvenes\, familias y abuelos. \n¡Os esperamos!
URL:https://parroquiadelrosario.es/evento/navidad-con-the-chosen/
LOCATION:El Rosario\, Plaza Franciscanos\, 3\, Madrid\, 28011\, España
CATEGORIES:Comunidad
ATTACH;FMTTYPE=image/jpeg:https://parroquiadelrosario.es/wp-content/uploads/2024/12/Navidad-The-Chosen-2025.jpg
ORGANIZER;CN="Parroquia":MAILTO:rosario@pazybien.org
END:VEVENT
BEGIN:VEVENT
DTSTART;TZID=Europe/Paris:20251222T183000
DTEND;TZID=Europe/Paris:20251222T213000
DTSTAMP:20260423T005029
CREATED:20241210T211911Z
LAST-MODIFIED:20251211T091615Z
UID:4462-1766428200-1766439000@parroquiadelrosario.es
SUMMARY:Concierto Oración - Hermanas Agustinas de la Conversión
DESCRIPTION:¡¡El lunes 22 de diciembre a las 20:15 no te pierdas el 🎄Concierto Oración de Navidad🎄de las Agustinas de la Conversión y únete al coro de los ángeles 👼👼👼para cantar juntos la gloria de Dios 🙌🙌🙌🙌🙌 Te esperamos‼️ \nTras la Eucarístía de las 19:30\, concierto de Navidad en la iglesia del Rosario. \nAntes de la Eucaristía\, a partir de las 18:30\, las hermanas pondrán a la venta a la entrada de la iglesia los productos de artesanía y repostería que ellas mismas hacen en su convento. \n¡Gracias por tu colaboración!
URL:https://parroquiadelrosario.es/evento/concierto-oracion-hermanas-agustinas-de-la-conversion/
LOCATION:El Rosario\, Plaza Franciscanos\, 3\, Madrid\, 28011\, España
CATEGORIES:Comunidad
ATTACH;FMTTYPE=image/jpeg:https://parroquiadelrosario.es/wp-content/uploads/2024/12/concierto-agustinas-2025.jpeg
ORGANIZER;CN="Parroquia":MAILTO:rosario@pazybien.org
END:VEVENT
BEGIN:VEVENT
DTSTART;TZID=Europe/Paris:20251224T163000
DTEND;TZID=Europe/Paris:20260111T203000
DTSTAMP:20260423T005029
CREATED:20241222T163313Z
LAST-MODIFIED:20251217T202429Z
UID:4483-1766593800-1768163400@parroquiadelrosario.es
SUMMARY:Horario de celebraciones de Navidad
DESCRIPTION:Nochebuena: Miércoles\, 24 de diciembre \n16:30 Adoración eucarística y Vísperas (El Rosario) \n17:00 Eucaristía (Lourdes) \n19:00 Misa del Pollito (Santa Clara) \n23:15 Oficio de Lecturas de Navidad (El Rosario) \n24:00 Misa de Medianoche de Navidad (El Rosario) \nSolemnidad de la Natividad del Señor: Jueves\, 25 de diciembre \n11:00 Eucaristía (El Rosario) \n12:30 Eucaristía (Santa Clara) \n12:30 Eucaristía (El Rosario) \n13:00 Eucaristía (Divino Maestro) \nVíspera de la Fiesta de la Sagrada Familia: Sábado\, 27 de diciembre \n17:00 Eucaristía (Lourdes) \n19:30 Eucaristía (El Rosario) \nFiesta de la Sagrada Familia: Domingo\, 28 de diciembre \n10:00 Eucaristía (Divino Maestro) \n11:00 Eucaristía (El Rosario) \n12:30 Eucaristía (Santa Clara) \n12:30 Eucaristía (El Rosario) \n19:30 Eucaristía (El Rosario) \n Víspera de Santa María\, Madre de Dios: Miércoles\, 31 de diciembre \n19:30 Eucaristía (El Rosario) \n Solemnidad Santa María\, Madre de Dios: Jueves\, 1 de enero \n11:00 Eucaristía (El Rosario) \n12:30 Eucaristía (Santa Clara) \n12:30 Eucaristía (El Rosario) \n13:00 Eucaristía (Divino Maestro) \n19:30 Eucaristía (El Rosario) \nVíspera del Segundo Domingo después de Navidad: Sábado\, 3 de enero \n17:00 Eucaristía (Lourdes) \n19:30 Eucaristía (El Rosario) \nDomingo después de Navidad: Domingo\, 4 de enero \n10:00 Eucaristía (Divino Maestro) \n11:00 Eucaristía (El Rosario) \n12:30 Eucaristía (Santa Clara) \n12:30 Eucaristía (El Rosario) \n19:30 Eucaristía (El Rosario) \nVíspera Solemnidad de la Epifanía del Señor: Lunes\, 5 de enero \n19:30 Eucaristía (El Rosario) \nSolemnidad de la Epifanía del Señor: Martes\, 6 de enero \n10:00 Eucaristía (Divino Maestro) \n11:00 Eucaristía (El Rosario) \n12:30 Eucaristía (Santa Clara) \n12:30 Eucaristía (El Rosario) \n19:30 Eucaristía (El Rosario) \nVíspera de la Fiesta del Bautismo del Señor: Sábado\, 10 de enero \n17:00 Eucaristía (Lourdes) \n19:30 Eucaristía (El Rosario) \nFiesta del Bautismo del Señor: Domingo\, 11 de enero \n10:00 Eucaristía (Divino Maestro) \n11:00 Eucaristía (El Rosario) \n12:30 Eucaristía (Santa Clara) \n12:30 Eucaristía (El Rosario) \n19:30 Eucaristía (El Rosario) \n Las celebraciones de los días laborales mantienen los horarios habituales.
URL:https://parroquiadelrosario.es/evento/horario-de-celebraciones-de-navidad/
CATEGORIES:Comunidad
ATTACH;FMTTYPE=image/jpeg:https://parroquiadelrosario.es/wp-content/uploads/2024/12/Horarios-Navidad-2025.jpg
ORGANIZER;CN="Parroquia":MAILTO:rosario@pazybien.org
END:VEVENT
END:VCALENDAR